BEGIN:VCALENDAR
VERSION:2.0
PRODID:-//Main Street Book Club - ECPv6.15.20//NONSGML v1.0//EN
CALSCALE:GREGORIAN
METHOD:PUBLISH
X-WR-CALNAME:Main Street Book Club
X-ORIGINAL-URL:https://mainstreetbookclub.com
X-WR-CALDESC:Events for Main Street Book Club
REFRESH-INTERVAL;VALUE=DURATION:PT1H
X-Robots-Tag:noindex
X-PUBLISHED-TTL:PT1H
BEGIN:VTIMEZONE
TZID:America/Halifax
BEGIN:DAYLIGHT
TZOFFSETFROM:-0400
TZOFFSETTO:-0300
TZNAME:ADT
DTSTART:20250309T060000
END:DAYLIGHT
BEGIN:STANDARD
TZOFFSETFROM:-0300
TZOFFSETTO:-0400
TZNAME:AST
DTSTART:20251102T050000
END:STANDARD
BEGIN:DAYLIGHT
TZOFFSETFROM:-0400
TZOFFSETTO:-0300
TZNAME:ADT
DTSTART:20260308T060000
END:DAYLIGHT
BEGIN:STANDARD
TZOFFSETFROM:-0300
TZOFFSETTO:-0400
TZNAME:AST
DTSTART:20261101T050000
END:STANDARD
BEGIN:DAYLIGHT
TZOFFSETFROM:-0400
TZOFFSETTO:-0300
TZNAME:ADT
DTSTART:20270314T060000
END:DAYLIGHT
BEGIN:STANDARD
TZOFFSETFROM:-0300
TZOFFSETTO:-0400
TZNAME:AST
DTSTART:20271107T050000
END:STANDARD
END:VTIMEZONE
BEGIN:VEVENT
DTSTART;TZID=America/Halifax:20260307T180000
DTEND;TZID=America/Halifax:20260307T210000
DTSTAMP:20260422T110737
CREATED:20260203T204008Z
LAST-MODIFIED:20260224T151031Z
UID:299-1772906400-1772917200@mainstreetbookclub.com
SUMMARY:Bookmarks & Brews A Bookish Market: Velvet Fangs & Masquerade
DESCRIPTION:Join us at Foxtail Clermont for a bookish market where Mardi Gras magic meets a vampy twist. \n Shop books\, fandom merch\, and handmade treasures under glowing lights and gothic charm. \n Sip\, stroll\, and celebrate with a little mystery\, a lot of bookish fun\, and festive revelry all around. \nFOLLOW THE LINK AND RSVP FOR A CHANCE TO WIN!
URL:https://mainstreetbookclub.com/event/bookmarks-brews-a-bookish-market-velvet-fangs-masquerade/
LOCATION:Foxtail – Clermont\, 2608 S Hwy 27 S 200\, Clermont\, FL\, 34711\, United States
END:VEVENT
END:VCALENDAR