BEGIN:VCALENDAR
VERSION:2.0
PRODID:-//Main Street Book Club - ECPv6.15.20//NONSGML v1.0//EN
CALSCALE:GREGORIAN
METHOD:PUBLISH
X-WR-CALNAME:Main Street Book Club
X-ORIGINAL-URL:https://mainstreetbookclub.com
X-WR-CALDESC:Events for Main Street Book Club
REFRESH-INTERVAL;VALUE=DURATION:PT1H
X-Robots-Tag:noindex
X-PUBLISHED-TTL:PT1H
BEGIN:VTIMEZONE
TZID:America/Halifax
BEGIN:DAYLIGHT
TZOFFSETFROM:-0400
TZOFFSETTO:-0300
TZNAME:ADT
DTSTART:20250309T060000
END:DAYLIGHT
BEGIN:STANDARD
TZOFFSETFROM:-0300
TZOFFSETTO:-0400
TZNAME:AST
DTSTART:20251102T050000
END:STANDARD
BEGIN:DAYLIGHT
TZOFFSETFROM:-0400
TZOFFSETTO:-0300
TZNAME:ADT
DTSTART:20260308T060000
END:DAYLIGHT
BEGIN:STANDARD
TZOFFSETFROM:-0300
TZOFFSETTO:-0400
TZNAME:AST
DTSTART:20261101T050000
END:STANDARD
BEGIN:DAYLIGHT
TZOFFSETFROM:-0400
TZOFFSETTO:-0300
TZNAME:ADT
DTSTART:20270314T060000
END:DAYLIGHT
BEGIN:STANDARD
TZOFFSETFROM:-0300
TZOFFSETTO:-0400
TZNAME:AST
DTSTART:20271107T050000
END:STANDARD
END:VTIMEZONE
BEGIN:VEVENT
DTSTART;TZID=America/Halifax:20260308T090000
DTEND;TZID=America/Halifax:20260308T120000
DTSTAMP:20260422T110745
CREATED:20260224T152821Z
LAST-MODIFIED:20260224T152821Z
UID:334-1772960400-1772971200@mainstreetbookclub.com
SUMMARY:Feminism\, Footnotes and Fizz Book Club Yard Sale!
DESCRIPTION:Hey there Main Street Book Clubbers!! We’ve got another great yard sale coming up!! Join us for International Women’s Day next month and support all your favorite local book clubs!!
URL:https://mainstreetbookclub.com/event/feminism-footnotes-and-fizz-book-club-yard-sale/
LOCATION:Tap That Beer House\, 6047 US HWY 17-92N\, Davenport\, FL\, 33896\, United States
END:VEVENT
END:VCALENDAR