BEGIN:VCALENDAR
VERSION:2.0
PRODID:-//Main Street Book Club - ECPv6.15.20//NONSGML v1.0//EN
CALSCALE:GREGORIAN
METHOD:PUBLISH
X-ORIGINAL-URL:https://mainstreetbookclub.com
X-WR-CALDESC:Events for Main Street Book Club
REFRESH-INTERVAL;VALUE=DURATION:PT1H
X-Robots-Tag:noindex
X-PUBLISHED-TTL:PT1H
BEGIN:VTIMEZONE
TZID:America/Halifax
BEGIN:DAYLIGHT
TZOFFSETFROM:-0400
TZOFFSETTO:-0300
TZNAME:ADT
DTSTART:20250309T060000
END:DAYLIGHT
BEGIN:STANDARD
TZOFFSETFROM:-0300
TZOFFSETTO:-0400
TZNAME:AST
DTSTART:20251102T050000
END:STANDARD
BEGIN:DAYLIGHT
TZOFFSETFROM:-0400
TZOFFSETTO:-0300
TZNAME:ADT
DTSTART:20260308T060000
END:DAYLIGHT
BEGIN:STANDARD
TZOFFSETFROM:-0300
TZOFFSETTO:-0400
TZNAME:AST
DTSTART:20261101T050000
END:STANDARD
BEGIN:DAYLIGHT
TZOFFSETFROM:-0400
TZOFFSETTO:-0300
TZNAME:ADT
DTSTART:20270314T060000
END:DAYLIGHT
BEGIN:STANDARD
TZOFFSETFROM:-0300
TZOFFSETTO:-0400
TZNAME:AST
DTSTART:20271107T050000
END:STANDARD
END:VTIMEZONE
BEGIN:VEVENT
DTSTART;TZID=America/Halifax:20260430T180000
DTEND;TZID=America/Halifax:20260430T210000
DTSTAMP:20260422T095523
CREATED:20260225T165556Z
LAST-MODIFIED:20260225T165556Z
UID:370-1777572000-1777582800@mainstreetbookclub.com
SUMMARY:Bookish Cafe Orlando Movie Event
DESCRIPTION:Movie Night with Bookish Cafe Orlando!
URL:https://mainstreetbookclub.com/event/bookish-cafe-orlando-movie-event/
LOCATION:Foxtail – Winter Garden\, 15516 W Colonial Dr.\, Winter Garden\, FL\, 34787-2727\, United States
END:VEVENT
END:VCALENDAR