BEGIN:VCALENDAR
VERSION:2.0
PRODID:-//Main Street Book Club - ECPv6.15.20//NONSGML v1.0//EN
CALSCALE:GREGORIAN
METHOD:PUBLISH
X-WR-CALNAME:Main Street Book Club
X-ORIGINAL-URL:https://mainstreetbookclub.com
X-WR-CALDESC:Events for Main Street Book Club
REFRESH-INTERVAL;VALUE=DURATION:PT1H
X-Robots-Tag:noindex
X-PUBLISHED-TTL:PT1H
BEGIN:VTIMEZONE
TZID:America/Halifax
BEGIN:DAYLIGHT
TZOFFSETFROM:-0400
TZOFFSETTO:-0300
TZNAME:ADT
DTSTART:20250309T060000
END:DAYLIGHT
BEGIN:STANDARD
TZOFFSETFROM:-0300
TZOFFSETTO:-0400
TZNAME:AST
DTSTART:20251102T050000
END:STANDARD
BEGIN:DAYLIGHT
TZOFFSETFROM:-0400
TZOFFSETTO:-0300
TZNAME:ADT
DTSTART:20260308T060000
END:DAYLIGHT
BEGIN:STANDARD
TZOFFSETFROM:-0300
TZOFFSETTO:-0400
TZNAME:AST
DTSTART:20261101T050000
END:STANDARD
BEGIN:DAYLIGHT
TZOFFSETFROM:-0400
TZOFFSETTO:-0300
TZNAME:ADT
DTSTART:20270314T060000
END:DAYLIGHT
BEGIN:STANDARD
TZOFFSETFROM:-0300
TZOFFSETTO:-0400
TZNAME:AST
DTSTART:20271107T050000
END:STANDARD
END:VTIMEZONE
BEGIN:VEVENT
DTSTART;TZID=America/Halifax:20260530T180000
DTEND;TZID=America/Halifax:20260530T210000
DTSTAMP:20260422T194037
CREATED:20260225T172917Z
LAST-MODIFIED:20260225T172917Z
UID:383-1780164000-1780174800@mainstreetbookclub.com
SUMMARY:Bookish Cafe Orlando Night Event
DESCRIPTION:
URL:https://mainstreetbookclub.com/event/bookish-cafe-orlando-night-event-3/
LOCATION:Foxtail – Clermont\, 2608 S Hwy 27 S 200\, Clermont\, FL\, 34711\, United States
END:VEVENT
END:VCALENDAR